BEGIN:VCALENDAR
VERSION:2.0
PRODID:-//BLOMSTERPARKEN - ECPv6.15.14//NONSGML v1.0//EN
CALSCALE:GREGORIAN
METHOD:PUBLISH
X-WR-CALNAME:BLOMSTERPARKEN
X-ORIGINAL-URL:https://blomsterparken.se
X-WR-CALDESC:Händelser för BLOMSTERPARKEN
REFRESH-INTERVAL;VALUE=DURATION:PT1H
X-Robots-Tag:noindex
X-PUBLISHED-TTL:PT1H
BEGIN:VTIMEZONE
TZID:Europe/Stockholm
BEGIN:DAYLIGHT
TZOFFSETFROM:+0100
TZOFFSETTO:+0200
TZNAME:CEST
DTSTART:20250330T010000
END:DAYLIGHT
BEGIN:STANDARD
TZOFFSETFROM:+0200
TZOFFSETTO:+0100
TZNAME:CET
DTSTART:20251026T010000
END:STANDARD
BEGIN:DAYLIGHT
TZOFFSETFROM:+0100
TZOFFSETTO:+0200
TZNAME:CEST
DTSTART:20260329T010000
END:DAYLIGHT
BEGIN:STANDARD
TZOFFSETFROM:+0200
TZOFFSETTO:+0100
TZNAME:CET
DTSTART:20261025T010000
END:STANDARD
BEGIN:DAYLIGHT
TZOFFSETFROM:+0100
TZOFFSETTO:+0200
TZNAME:CEST
DTSTART:20270328T010000
END:DAYLIGHT
BEGIN:STANDARD
TZOFFSETFROM:+0200
TZOFFSETTO:+0100
TZNAME:CET
DTSTART:20271031T010000
END:STANDARD
END:VTIMEZONE
BEGIN:VTIMEZONE
TZID:UTC
BEGIN:STANDARD
TZOFFSETFROM:+0000
TZOFFSETTO:+0000
TZNAME:UTC
DTSTART:20250101T000000
END:STANDARD
END:VTIMEZONE
BEGIN:VEVENT
DTSTART;TZID=Europe/Stockholm:20260822T130000
DTEND;TZID=Europe/Stockholm:20260822T160000
DTSTAMP:20260420T200158
CREATED:20260125T114430Z
LAST-MODIFIED:20260204T094102Z
UID:586-1787403600-1787414400@blomsterparken.se
SUMMARY:Bukettbindning med spiralteknik
DESCRIPTION:Lär dig binda blomsterbuketter med spiralteknik! \nÄr du intresserad av att lära dig binda buketter? Kanske odlar du egna snittblommor men vill putsa lite på din spiralteknik och utveckla dina buketters komposition? Eller så är du bara ute efter trevlig aktivitet i vacker miljö\, tillsammans med din bästa väninna. \nTillsammans går vi igenom spiralteknik\, blomformer\, begrepp och deras funktion i en komposition och du kommer praktiskt skapa en bukett med samma teknik. \nAllt material såsom blommor och grönt ingår i kursen och du får naturligtvis ta hem din bukett. Det ingår även kaffe/te\, lättare fika och förfriskningar. \nSkicka ett meddelande i formuläret nedan för vidare information och anmälan. \nAktivera JavaScript i din webbläsare för att fylla i formuläret.Aktivera JavaScript i din webbläsare för att fylla i formuläret.Namn *		\n			Namn Meddelande E-post\n			\n		\n		E-post *ÄmneMeddelande *Skicka
URL:https://blomsterparken.se/event/bukettbindning-med-spiralteknik/
ATTACH;FMTTYPE=image/jpeg:https://blomsterparken.se/wp-content/uploads/2025/11/img_0784.jpg
ORGANIZER;CN="Blomsterparken":MAILTO:hej@blomsterparken.se
END:VEVENT
BEGIN:VEVENT
DTSTART;TZID=UTC:20260912T130000
DTEND;TZID=UTC:20260912T160000
DTSTAMP:20260420T200158
CREATED:20260125T114742Z
LAST-MODIFIED:20260204T093256Z
UID:594-1789218000-1789228800@blomsterparken.se
SUMMARY:Bukettbidning med spiralteknik
DESCRIPTION:Lär dig binda blomsterbuketter med spiralteknik! \nÄr du intresserad av att lära dig binda buketter? Kanske odlar du egna snittblommor men vill putsa lite på din spiralteknik och utveckla dina buketters komposition? Eller så är du bara ute efter trevlig aktivitet i vacker miljö\, tillsammans med din bästa väninna. \nTillsammans går vi igenom spiralteknik\, blomformer\, begrepp och deras funktion i en komposition och du kommer praktiskt skapa en bukett med samma teknik. \nAllt material såsom blommor och grönt ingår i kursen och du får naturligtvis ta hem din bukett. Det ingår även kaffe/te\, lättare fika och förfriskningar. \nSkicka ett meddelande i formuläret nedan för vidare information och anmälan. \nAktivera JavaScript i din webbläsare för att fylla i formuläret.Aktivera JavaScript i din webbläsare för att fylla i formuläret.		\n			E-post Ämne Namn\n			\n		\n		Namn *E-post *ÄmneMeddelande *Skicka
URL:https://blomsterparken.se/event/bukettbidning-med-spiralteknik/
ATTACH;FMTTYPE=image/jpeg:https://blomsterparken.se/wp-content/uploads/2025/12/img_5494_snapseedcopy.jpg
ORGANIZER;CN="Blomsterparken":MAILTO:hej@blomsterparken.se
END:VEVENT
END:VCALENDAR